BEGIN:VCALENDAR
VERSION:2.0
PRODID:-//eventon.com NONSGML v1.0//EN
CALSCALE:GREGORIAN
METHOD:PUBLISH
BEGIN:VEVENT
UID:69e7329842f84
DTSTAMP:20260421T081728Z
DTSTART:20210923T160000Z
DTEND:20210923T173000Z
LOCATION:
SUMMARY:abgesagt: Maritime Literaturtage: „Passagierfahrt der DDR“
DESCRIPTION:Leider ist die Veranstaltung wegen Krankheit von Kapitän Peter
 s ausgefallen. Wir warten dann auf den nächsten Termin und wünschen gute 
 Besserung ! Die „Maritimen Literaturtage“ sind ein neues Veranstaltungs
 format\,  initiiert durch den Verein Seeleute Rostock e.V.: Es finden Buchv
 orstellungen/Lesungen/Vorträge statt und die Autoren bieten ihre Bücher z
 um Kauf. Es besteht[..]\nhttps://schifffahrtsmuseum-rostock.de/events/marit
 ime-literaturtage-passagierfahrt-der-ddr/
URL:https://schifffahrtsmuseum-rostock.de/events/maritime-literaturtage-passagierfahrt-der-ddr/
END:VEVENT
END:VCALENDAR