BEGIN:VCALENDAR
VERSION:2.0
PRODID:-//eventon.com NONSGML v1.0//EN
CALSCALE:GREGORIAN
METHOD:PUBLISH
BEGIN:VEVENT
UID:69e732ad2afa5
DTSTAMP:20260421T081749Z
DTSTART:20220515T110000Z
DTEND:20220515T180000Z
LOCATION:
SUMMARY:Internationaler Museumstag
DESCRIPTION:*11.00-11.30 Uhr: Ausstellungsrundgang „Tiefsee“ (Treffpunk
 t: Foyer) *11.30-12.00 Uhr: Schiffsführung für Kinder (Treffpunkt: Foyer)
  *11.45-12.30 Uhr: Film „Mit Tauchbooten unter Wasser“ (Konferenzraum L
 uke 1) *13.15-13.45 Uhr: Kurzvortrag „Seeungeheuer- Unbekannte Gefahren 
 aus der Tiefe?“ (Konferenzraum Luke 1) *13.30-14.00 Uhr: Tiere an Bord- G
 eschichten aus der Seefahrt (Treffpunkt: Foyer) *13.45-14.15 Uhr: Ausstellu
 ngsrundgang „Tiefsee“ (Treffpunkt:[..]\nhttps://schifffahrtsmuseum-rost
 ock.de/events/internationaler-museumstag/
URL:https://schifffahrtsmuseum-rostock.de/events/internationaler-museumstag/
END:VEVENT
END:VCALENDAR