BEGIN:VCALENDAR
VERSION:2.0
PRODID:-//eventon.com NONSGML v1.0//EN
CALSCALE:GREGORIAN
METHOD:PUBLISH
BEGIN:VEVENT
UID:69e747add5a51
DTSTAMP:20260421T094725Z
DTSTART:20240704T160000Z
DTEND:20240704T180000Z
LOCATION:
SUMMARY:Lesung: Ein Arbeitsleben auf der Warnemünder Warnowwerft 1962 – 1995
DESCRIPTION:Lesung mit Renate Voß: Ein Arbeitsleben auf der Warnemünder W
 arnowwerft 1962 – 1995 Die renommierte Autorin Renate Voß lädt am 4. Ju
 li um 16:00 Uhr zu einer Lesung auf dem Traditionsschiff im IGA Park in Sch
 marl ein. Die Veranstaltung bietet einen Einblick in das Arbeitsleben der A
 utorin auf der Warnowwerft[..]\nhttps://schifffahrtsmuseum-rostock.de/event
 s/lesung-ein-arbeitsleben-auf-der-warnemuender-warnowwerft-1962-1995/
URL:https://schifffahrtsmuseum-rostock.de/events/lesung-ein-arbeitsleben-auf-der-warnemuender-warnowwerft-1962-1995/
END:VEVENT
END:VCALENDAR