BEGIN:VCALENDAR
VERSION:2.0
PRODID:-//eventon.com NONSGML v1.0//EN
CALSCALE:GREGORIAN
METHOD:PUBLISH
BEGIN:VEVENT
UID:69e6511871323
DTSTAMP:20260420T161520Z
DTSTART:20260517T110000Z
DTEND:20260517T150000Z
LOCATION:
SUMMARY:Internationaler Museumstag 2026
DESCRIPTION:Am 17. Mai von 11.00 bis 15.00 Uhr lädt die Crew des Schifffah
 rtsmuseums Rostock am „Internationalen Museumstag“\,  der diesmal unter
  dem Motto „Museums uniting a divided world“ steht\,  zu einem bunten P
 rogramm für die ganze Familie auf das Traditionsschiff ein. Vorträge und 
 Aktionen zum Internationalen Museumstag: 11.00-11.30 Uhr: Ausstellungsrundg
 ang „Mythen[..]\nhttps://schifffahrtsmuseum-rostock.de/events/internation
 aler-museumstag-2026/
URL:https://schifffahrtsmuseum-rostock.de/events/internationaler-museumstag-2026/
END:VEVENT
END:VCALENDAR